Package: csdR Version: 1.10.0 Maintainer: Jakob Peder Pettersen MaintainerEmail: jakobpeder.pettersen at gmail.com git_url: https://git.bioconductor.org/packages/csdR git_branch: RELEASE_3_19 git_last_commit: eb815fd git_last_commit_date: 2024-04-30 11:35:41 -0400 (Tue, 30 Apr 2024)