Package: csaw Version: 1.38.0 Command: F:\biocbuild\bbs-3.19-bioc\R\bin\R.exe CMD INSTALL csaw StartedAt: 2024-06-26 15:59:22 -0400 (Wed, 26 Jun 2024) EndedAt: 2024-06-26 16:01:56 -0400 (Wed, 26 Jun 2024) EllapsedTime: 154.0 seconds RetCode: 0 Status: OK