Package: csaw Version: 1.38.0 Command: rm -rf csaw.buildbin-libdir && mkdir csaw.buildbin-libdir && F:\biocbuild\bbs-3.19-bioc\R\bin\R.exe CMD INSTALL --build --library=csaw.buildbin-libdir csaw_1.38.0.tar.gz StartedAt: 2024-06-27 08:03:40 -0400 (Thu, 27 Jun 2024) EndedAt: 2024-06-27 08:06:04 -0400 (Thu, 27 Jun 2024) EllapsedTime: 144.1 seconds RetCode: 0 Status: OK PackageFile: csaw_1.38.0.zip PackageFileSize: 5.564 MiB