Package: csaw Version: 1.38.0 Command: /Library/Frameworks/R.framework/Resources/bin/R CMD INSTALL csaw StartedAt: 2024-10-16 16:23:42 -0400 (Wed, 16 Oct 2024) EndedAt: 2024-10-16 16:24:59 -0400 (Wed, 16 Oct 2024) EllapsedTime: 77.1 seconds RetCode: 0 Status: OK