Package: crossmeta Version: 1.30.0 Command: E:\biocbuild\bbs-3.19-bioc\R\bin\R.exe CMD INSTALL crossmeta StartedAt: 2024-10-16 16:58:21 -0400 (Wed, 16 Oct 2024) EndedAt: 2024-10-16 16:58:58 -0400 (Wed, 16 Oct 2024) EllapsedTime: 36.9 seconds RetCode: 0 Status: OK