Package: crossmeta Version: 1.30.0 Command: F:\biocbuild\bbs-3.19-bioc\R\bin\R.exe CMD INSTALL crossmeta StartedAt: 2024-06-26 16:31:58 -0400 (Wed, 26 Jun 2024) EndedAt: 2024-06-26 16:32:23 -0400 (Wed, 26 Jun 2024) EllapsedTime: 24.5 seconds RetCode: 0 Status: OK