Package: crossmeta Version: 1.30.0 Command: chmod a+r crossmeta -R && F:\biocbuild\bbs-3.19-bioc\R\bin\R.exe CMD build --keep-empty-dirs --no-resave-data crossmeta StartedAt: 2024-06-26 18:04:28 -0400 (Wed, 26 Jun 2024) EndedAt: 2024-06-26 18:07:22 -0400 (Wed, 26 Jun 2024) EllapsedTime: 174.1 seconds RetCode: 0 Status: OK PackageFile: crossmeta_1.30.0.tar.gz PackageFileSize: 2.951 MiB