Package: crossmeta Version: 1.30.0 Command: rm -rf crossmeta.buildbin-libdir && mkdir crossmeta.buildbin-libdir && F:\biocbuild\bbs-3.19-bioc\R\bin\R.exe CMD INSTALL --build --library=crossmeta.buildbin-libdir crossmeta_1.30.0.tar.gz StartedAt: 2024-06-27 08:03:36 -0400 (Thu, 27 Jun 2024) EndedAt: 2024-06-27 08:04:03 -0400 (Thu, 27 Jun 2024) EllapsedTime: 26.6 seconds RetCode: 0 Status: OK PackageFile: crossmeta_1.30.0.zip PackageFileSize: 2.781 MiB