Package: crossmeta Version: 1.30.0 Command: /Library/Frameworks/R.framework/Resources/bin/R CMD check --install=check:crossmeta.install-out.txt --library=/Library/Frameworks/R.framework/Resources/library --no-vignettes --timings crossmeta_1.30.0.tar.gz StartedAt: 2024-06-09 19:42:56 -0400 (Sun, 09 Jun 2024) EndedAt: 2024-06-09 19:45:08 -0400 (Sun, 09 Jun 2024) EllapsedTime: 131.7 seconds RetCode: 0 Status: OK CheckDir: crossmeta.Rcheck Warnings: 0