Package: crossmeta Version: 1.30.0 Command: rm -rf crossmeta.buildbin-libdir && mkdir crossmeta.buildbin-libdir && /Users/biocbuild/BBS/utils/build-universal.sh crossmeta_1.30.0.tar.gz /Library/Frameworks/R.framework/Resources/bin/R crossmeta.buildbin-libdir StartedAt: 2024-06-10 00:13:25 -0400 (Mon, 10 Jun 2024) EndedAt: 2024-06-10 00:13:45 -0400 (Mon, 10 Jun 2024) EllapsedTime: 20.2 seconds RetCode: 0 Status: OK PackageFile: crossmeta_1.30.0.tgz PackageFileSize: 2.775 MiB