Package: crossmeta Version: 1.30.0 Command: /Library/Frameworks/R.framework/Resources/bin/R CMD build --keep-empty-dirs --no-resave-data crossmeta StartedAt: 2024-06-09 20:05:01 -0400 (Sun, 09 Jun 2024) EndedAt: 2024-06-09 20:07:28 -0400 (Sun, 09 Jun 2024) EllapsedTime: 147.2 seconds RetCode: 0 Status: OK PackageFile: crossmeta_1.30.0.tar.gz PackageFileSize: 2.951 MiB