Package: crossmeta Version: 1.30.0 Command: /Library/Frameworks/R.framework/Resources/bin/R CMD build --keep-empty-dirs --no-resave-data crossmeta StartedAt: 2024-10-16 22:27:34 -0400 (Wed, 16 Oct 2024) EndedAt: 2024-10-16 22:29:52 -0400 (Wed, 16 Oct 2024) EllapsedTime: 137.8 seconds RetCode: 0 Status: OK PackageFile: crossmeta_1.30.0.tar.gz PackageFileSize: 2.951 MiB