Package: crossmeta Version: 1.30.0 Maintainer: Alex Pickering MaintainerEmail: alexvpickering at gmail.com git_url: https://git.bioconductor.org/packages/crossmeta git_branch: RELEASE_3_19 git_last_commit: 7500c56 git_last_commit_date: 2024-04-30 10:51:44 -0400 (Tue, 30 Apr 2024)