Package: crlmm Version: 1.62.0 Command: E:\biocbuild\bbs-3.19-bioc\R\bin\R.exe CMD INSTALL crlmm StartedAt: 2024-10-16 16:23:42 -0400 (Wed, 16 Oct 2024) EndedAt: 2024-10-16 16:25:07 -0400 (Wed, 16 Oct 2024) EllapsedTime: 85.8 seconds RetCode: 0 Status: OK