Package: crlmm Version: 1.62.0 Command: E:\biocbuild\bbs-3.19-bioc\R\bin\R.exe CMD check --no-multiarch --install=check:crlmm.install-out.txt --library=E:\biocbuild\bbs-3.19-bioc\R\library --no-vignettes --timings crlmm_1.62.0.tar.gz StartedAt: 2024-10-17 00:25:44 -0400 (Thu, 17 Oct 2024) EndedAt: 2024-10-17 00:36:23 -0400 (Thu, 17 Oct 2024) EllapsedTime: 639.5 seconds RetCode: 0 Status: WARNINGS CheckDir: crlmm.Rcheck Warnings: 1