Package: crlmm Version: 1.62.0 Command: chmod a+r crlmm -R && E:\biocbuild\bbs-3.19-bioc\R\bin\R.exe CMD build --keep-empty-dirs --no-resave-data crlmm StartedAt: 2024-10-16 18:27:05 -0400 (Wed, 16 Oct 2024) EndedAt: 2024-10-16 18:29:50 -0400 (Wed, 16 Oct 2024) EllapsedTime: 165.0 seconds RetCode: 0 Status: OK PackageFile: crlmm_1.62.0.tar.gz PackageFileSize: 4.092 MiB