Package: crlmm Version: 1.62.0 Command: rm -rf crlmm.buildbin-libdir && mkdir crlmm.buildbin-libdir && E:\biocbuild\bbs-3.19-bioc\R\bin\R.exe CMD INSTALL --build --library=crlmm.buildbin-libdir crlmm_1.62.0.tar.gz StartedAt: 2024-10-17 07:36:44 -0400 (Thu, 17 Oct 2024) EndedAt: 2024-10-17 07:38:07 -0400 (Thu, 17 Oct 2024) EllapsedTime: 83.2 seconds RetCode: 0 Status: OK PackageFile: crlmm_1.62.0.zip PackageFileSize: 5.018 MiB