Package: crlmm Version: 1.62.0 Command: /home/biocbuild/bbs-3.19-bioc/R/bin/R CMD INSTALL crlmm StartedAt: 2024-10-16 16:06:52 -0400 (Wed, 16 Oct 2024) EndedAt: 2024-10-16 16:07:34 -0400 (Wed, 16 Oct 2024) EllapsedTime: 41.1 seconds RetCode: 0 Status: OK