Package: crlmm Version: 1.62.0 Command: /home/biocbuild/bbs-3.19-bioc/R/bin/R CMD check --install=check:crlmm.install-out.txt --library=/home/biocbuild/bbs-3.19-bioc/R/site-library --timings crlmm_1.62.0.tar.gz StartedAt: 2024-10-16 23:14:40 -0400 (Wed, 16 Oct 2024) EndedAt: 2024-10-16 23:27:07 -0400 (Wed, 16 Oct 2024) EllapsedTime: 746.5 seconds RetCode: 0 Status: WARNINGS CheckDir: crlmm.Rcheck Warnings: 1