Package: crlmm Version: 1.62.0 Command: /Library/Frameworks/R.framework/Resources/bin/R CMD build --keep-empty-dirs --no-resave-data crlmm StartedAt: 2024-06-09 16:20:42 -0400 (Sun, 09 Jun 2024) EndedAt: 2024-06-09 16:22:50 -0400 (Sun, 09 Jun 2024) EllapsedTime: 127.5 seconds RetCode: 0 Status: OK PackageFile: crlmm_1.62.0.tar.gz PackageFileSize: 4.276 MiB