Package: crlmm Version: 1.62.0 Command: rm -rf crlmm.buildbin-libdir && mkdir crlmm.buildbin-libdir && /Users/biocbuild/BBS/utils/build-universal.sh crlmm_1.62.0.tar.gz /Library/Frameworks/R.framework/Resources/bin/R crlmm.buildbin-libdir StartedAt: 2024-06-10 00:13:22 -0400 (Mon, 10 Jun 2024) EndedAt: 2024-06-10 00:14:14 -0400 (Mon, 10 Jun 2024) EllapsedTime: 51.6 seconds RetCode: 0 Status: OK PackageFile: crlmm_1.62.0.tgz PackageFileSize: 5.2 MiB