Package: crlmm Version: 1.62.0 Command: /home/biocbuild/R/R-beta-2024-04-15_r86425/bin/R CMD build --keep-empty-dirs --no-resave-data crlmm StartedAt: 2024-05-08 23:37:19 -0000 (Wed, 08 May 2024) EndedAt: 2024-05-08 23:40:52 -0000 (Wed, 08 May 2024) EllapsedTime: 212.3 seconds RetCode: 0 Status: OK PackageFile: crlmm_1.62.0.tar.gz PackageFileSize: 4.26 MiB