Package: crlmm Version: 1.62.0 Command: /Library/Frameworks/R.framework/Resources/bin/R CMD INSTALL crlmm StartedAt: 2024-06-09 15:35:54 -0400 (Sun, 09 Jun 2024) EndedAt: 2024-06-09 15:37:00 -0400 (Sun, 09 Jun 2024) EllapsedTime: 65.4 seconds RetCode: 0 Status: OK