Package: crlmm Version: 1.62.0 Command: /Library/Frameworks/R.framework/Resources/bin/R CMD check --install=check:crlmm.install-out.txt --library=/Library/Frameworks/R.framework/Resources/library --no-vignettes --timings crlmm_1.62.0.tar.gz StartedAt: 2024-06-10 12:16:58 -0400 (Mon, 10 Jun 2024) EndedAt: 2024-06-10 12:34:04 -0400 (Mon, 10 Jun 2024) EllapsedTime: 1026.2 seconds RetCode: 0 Status: WARNINGS CheckDir: crlmm.Rcheck Warnings: 1