Package: crlmm Version: 1.62.0 Command: rm -rf crlmm.buildbin-libdir && mkdir crlmm.buildbin-libdir && /Users/biocbuild/BBS/utils/build-universal.sh crlmm_1.62.0.tar.gz /Library/Frameworks/R.framework/Resources/bin/R crlmm.buildbin-libdir StartedAt: 2024-10-18 18:00:24 -0400 (Fri, 18 Oct 2024) EndedAt: 2024-10-18 18:01:18 -0400 (Fri, 18 Oct 2024) EllapsedTime: 53.3 seconds RetCode: 0 Status: OK PackageFile: crlmm_1.62.0.tgz PackageFileSize: 5.197 MiB