Package: crlmm Version: 1.62.0 Maintainer: Benilton S Carvalho MaintainerEmail: benilton at unicamp.br git_url: https://git.bioconductor.org/packages/crlmm git_branch: RELEASE_3_19 git_last_commit: b992c6a git_last_commit_date: 2024-04-30 10:19:42 -0400 (Tue, 30 Apr 2024)