Package: crisprseekplus Version: 1.30.0 Command: chmod a+r crisprseekplus -R && E:\biocbuild\bbs-3.19-bioc\R\bin\R.exe CMD build --keep-empty-dirs --no-resave-data crisprseekplus StartedAt: 2024-10-16 18:26:10 -0400 (Wed, 16 Oct 2024) EndedAt: 2024-10-16 18:27:18 -0400 (Wed, 16 Oct 2024) EllapsedTime: 67.3 seconds RetCode: 0 Status: OK PackageFile: crisprseekplus_1.30.0.tar.gz PackageFileSize: 320.8 KiB