Package: crisprseekplus Version: 1.30.0 Command: rm -rf crisprseekplus.buildbin-libdir && mkdir crisprseekplus.buildbin-libdir && F:\biocbuild\bbs-3.19-bioc\R\bin\R.exe CMD INSTALL --build --library=crisprseekplus.buildbin-libdir crisprseekplus_1.30.0.tar.gz StartedAt: 2024-06-27 08:03:24 -0400 (Thu, 27 Jun 2024) EndedAt: 2024-06-27 08:04:30 -0400 (Thu, 27 Jun 2024) EllapsedTime: 65.5 seconds RetCode: 0 Status: OK PackageFile: crisprseekplus_1.30.0.zip PackageFileSize: 360.6 KiB