Package: crisprseekplus Version: 1.30.0 Command: /home/biocbuild/bbs-3.19-bioc/R/bin/R CMD check --install=check:crisprseekplus.install-out.txt --library=/home/biocbuild/bbs-3.19-bioc/R/site-library --timings crisprseekplus_1.30.0.tar.gz StartedAt: 2024-10-16 23:13:07 -0400 (Wed, 16 Oct 2024) EndedAt: 2024-10-16 23:20:26 -0400 (Wed, 16 Oct 2024) EllapsedTime: 438.8 seconds RetCode: 1 Status: ERROR CheckDir: crisprseekplus.Rcheck Warnings: NA