Package: crisprseekplus Version: 1.30.0 Command: /Library/Frameworks/R.framework/Resources/bin/R CMD check --install=check:crisprseekplus.install-out.txt --library=/Library/Frameworks/R.framework/Resources/library --no-vignettes --timings crisprseekplus_1.30.0.tar.gz StartedAt: 2024-10-17 17:56:07 -0400 (Thu, 17 Oct 2024) EndedAt: 2024-10-17 18:03:52 -0400 (Thu, 17 Oct 2024) EllapsedTime: 464.8 seconds RetCode: 0 Status: OK CheckDir: crisprseekplus.Rcheck Warnings: 0