Package: crisprseekplus Version: 1.30.0 Command: /Library/Frameworks/R.framework/Resources/bin/R CMD build --keep-empty-dirs --no-resave-data crisprseekplus StartedAt: 2024-10-16 22:24:33 -0400 (Wed, 16 Oct 2024) EndedAt: 2024-10-16 22:25:34 -0400 (Wed, 16 Oct 2024) EllapsedTime: 60.8 seconds RetCode: 0 Status: OK PackageFile: crisprseekplus_1.30.0.tar.gz PackageFileSize: 320.8 KiB