Package: crisprseekplus Version: 1.30.0 Command: rm -rf crisprseekplus.buildbin-libdir && mkdir crisprseekplus.buildbin-libdir && /Users/biocbuild/BBS/utils/build-universal.sh crisprseekplus_1.30.0.tar.gz /Library/Frameworks/R.framework/Resources/bin/R crisprseekplus.buildbin-libdir StartedAt: 2024-10-18 17:59:13 -0400 (Fri, 18 Oct 2024) EndedAt: 2024-10-18 18:00:24 -0400 (Fri, 18 Oct 2024) EllapsedTime: 71.6 seconds RetCode: 0 Status: OK PackageFile: crisprseekplus_1.30.0.tgz PackageFileSize: 358.8 KiB