Package: crisprViz Version: 1.6.0 Command: /home/biocbuild/bbs-3.19-bioc/R/bin/R CMD check --install=check:crisprViz.install-out.txt --library=/home/biocbuild/bbs-3.19-bioc/R/site-library --timings crisprViz_1.6.0.tar.gz StartedAt: 2024-10-16 23:14:20 -0400 (Wed, 16 Oct 2024) EndedAt: 2024-10-16 23:24:27 -0400 (Wed, 16 Oct 2024) EllapsedTime: 607.3 seconds RetCode: 0 Status: OK CheckDir: crisprViz.Rcheck Warnings: 0