Package: crisprViz Version: 1.6.0 Command: /home/biocbuild/bbs-3.19-bioc/R/bin/R CMD build --keep-empty-dirs --no-resave-data crisprViz StartedAt: 2024-10-16 18:00:04 -0400 (Wed, 16 Oct 2024) EndedAt: 2024-10-16 18:02:17 -0400 (Wed, 16 Oct 2024) EllapsedTime: 132.2 seconds RetCode: 0 Status: OK PackageFile: crisprViz_1.6.0.tar.gz PackageFileSize: 1.052 MiB