Package: crisprViz Version: 1.6.0 Command: /Library/Frameworks/R.framework/Resources/bin/R CMD check --install=check:crisprViz.install-out.txt --library=/Library/Frameworks/R.framework/Resources/library --no-vignettes --timings crisprViz_1.6.0.tar.gz StartedAt: 2024-10-17 03:30:42 -0400 (Thu, 17 Oct 2024) EndedAt: 2024-10-17 03:48:04 -0400 (Thu, 17 Oct 2024) EllapsedTime: 1041.5 seconds RetCode: 0 Status: OK CheckDir: crisprViz.Rcheck Warnings: 0