Package: crisprViz Version: 1.6.0 Command: rm -rf crisprViz.buildbin-libdir && mkdir crisprViz.buildbin-libdir && /Users/biocbuild/BBS/utils/build-universal.sh crisprViz_1.6.0.tar.gz /Library/Frameworks/R.framework/Resources/bin/R crisprViz.buildbin-libdir StartedAt: 2024-10-17 15:56:37 -0400 (Thu, 17 Oct 2024) EndedAt: 2024-10-17 15:58:36 -0400 (Thu, 17 Oct 2024) EllapsedTime: 119.5 seconds RetCode: 0 Status: OK PackageFile: crisprViz_1.6.0.tgz PackageFileSize: 1.354 MiB