Package: crisprVerse Version: 1.6.0 Command: rm -rf crisprVerse.buildbin-libdir && mkdir crisprVerse.buildbin-libdir && F:\biocbuild\bbs-3.19-bioc\R\bin\R.exe CMD INSTALL --build --library=crisprVerse.buildbin-libdir crisprVerse_1.6.0.tar.gz StartedAt: 2024-06-27 08:03:30 -0400 (Thu, 27 Jun 2024) EndedAt: 2024-06-27 08:04:37 -0400 (Thu, 27 Jun 2024) EllapsedTime: 67.1 seconds RetCode: 0 Status: OK PackageFile: crisprVerse_1.6.0.zip PackageFileSize: 313.2 KiB