Package: crisprVerse Version: 1.6.0 Command: /home/biocbuild/bbs-3.19-bioc/R/bin/R CMD check --install=check:crisprVerse.install-out.txt --library=/home/biocbuild/bbs-3.19-bioc/R/site-library --timings crisprVerse_1.6.0.tar.gz StartedAt: 2024-10-16 23:14:15 -0400 (Wed, 16 Oct 2024) EndedAt: 2024-10-16 23:22:05 -0400 (Wed, 16 Oct 2024) EllapsedTime: 469.9 seconds RetCode: 0 Status: OK CheckDir: crisprVerse.Rcheck Warnings: 0