Package: crisprScore Version: 1.8.0 Command: E:\biocbuild\bbs-3.19-bioc\R\bin\R.exe CMD INSTALL crisprScore StartedAt: 2024-10-16 16:21:10 -0400 (Wed, 16 Oct 2024) EndedAt: 2024-10-16 16:22:33 -0400 (Wed, 16 Oct 2024) EllapsedTime: 83.7 seconds RetCode: 0 Status: OK