Package: crisprScore Version: 1.8.0 Command: chmod a+r crisprScore -R && F:\biocbuild\bbs-3.19-bioc\R\bin\R.exe --arch x64 CMD build --keep-empty-dirs --no-resave-data crisprScore StartedAt: 2024-06-26 18:03:26 -0400 (Wed, 26 Jun 2024) EndedAt: 2024-06-26 18:04:16 -0400 (Wed, 26 Jun 2024) EllapsedTime: 50.5 seconds RetCode: 0 Status: OK PackageFile: crisprScore_1.8.0.tar.gz PackageFileSize: 4.437 MiB