Package: crisprScore Version: 1.8.0 Command: rm -rf crisprScore.buildbin-libdir && mkdir crisprScore.buildbin-libdir && F:\biocbuild\bbs-3.19-bioc\R\bin\R.exe CMD INSTALL --build --library=crisprScore.buildbin-libdir crisprScore_1.8.0.tar.gz StartedAt: 2024-06-27 08:03:20 -0400 (Thu, 27 Jun 2024) EndedAt: 2024-06-27 08:03:57 -0400 (Thu, 27 Jun 2024) EllapsedTime: 37.3 seconds RetCode: 0 Status: OK PackageFile: crisprScore_1.8.0.zip PackageFileSize: 4.397 MiB