Package: crisprScore Version: 1.8.0 Command: rm -rf crisprScore.buildbin-libdir && mkdir crisprScore.buildbin-libdir && /Users/biocbuild/BBS/utils/build-universal.sh crisprScore_1.8.0.tar.gz /Library/Frameworks/R.framework/Resources/bin/R crisprScore.buildbin-libdir StartedAt: 2024-10-17 15:56:10 -0400 (Thu, 17 Oct 2024) EndedAt: 2024-10-17 15:56:56 -0400 (Thu, 17 Oct 2024) EllapsedTime: 46.1 seconds RetCode: 0 Status: OK PackageFile: crisprScore_1.8.0.tgz PackageFileSize: 4.37 MiB