Package: crisprScore Version: 1.8.0 Command: /Library/Frameworks/R.framework/Resources/bin/R CMD INSTALL crisprScore StartedAt: 2024-06-09 15:12:14 -0400 (Sun, 09 Jun 2024) EndedAt: 2024-06-09 15:12:37 -0400 (Sun, 09 Jun 2024) EllapsedTime: 22.9 seconds RetCode: 0 Status: OK