Package: crisprScore Version: 1.8.0 Command: /home/biocbuild/R/R-beta-2024-04-15_r86425/bin/R CMD INSTALL crisprScore StartedAt: 2024-05-08 20:24:39 -0000 (Wed, 08 May 2024) EndedAt: 2024-05-08 20:25:03 -0000 (Wed, 08 May 2024) EllapsedTime: 24.6 seconds RetCode: 0 Status: OK