Package: crisprScore Version: 1.8.0 Command: /home/biocbuild/R/R-beta-2024-04-15_r86425/bin/R CMD build --keep-empty-dirs --no-resave-data crisprScore StartedAt: 2024-05-08 23:36:02 -0000 (Wed, 08 May 2024) EndedAt: 2024-05-08 23:36:36 -0000 (Wed, 08 May 2024) EllapsedTime: 34.0 seconds RetCode: 0 Status: OK PackageFile: crisprScore_1.8.0.tar.gz PackageFileSize: 4.502 MiB