Package: crisprDesign Version: 1.6.0 Command: E:\biocbuild\bbs-3.19-bioc\R\bin\R.exe CMD INSTALL crisprDesign StartedAt: 2024-10-16 16:42:20 -0400 (Wed, 16 Oct 2024) EndedAt: 2024-10-16 16:44:26 -0400 (Wed, 16 Oct 2024) EllapsedTime: 125.7 seconds RetCode: 0 Status: OK