Package: crisprDesign Version: 1.6.0 Command: set _R_CHECK_FORCE_SUGGESTS_=0&& E:\biocbuild\bbs-3.19-bioc\R\bin\R.exe CMD check --no-multiarch --install=check:crisprDesign.install-out.txt --library=E:\biocbuild\bbs-3.19-bioc\R\library --no-vignettes --timings crisprDesign_1.6.0.tar.gz StartedAt: 2024-10-17 00:23:50 -0400 (Thu, 17 Oct 2024) EndedAt: 2024-10-17 00:34:38 -0400 (Thu, 17 Oct 2024) EllapsedTime: 647.2 seconds RetCode: 0 Status: OK CheckDir: crisprDesign.Rcheck Warnings: 0