Package: crisprDesign Version: 1.6.0 Command: rm -rf crisprDesign.buildbin-libdir && mkdir crisprDesign.buildbin-libdir && E:\biocbuild\bbs-3.19-bioc\R\bin\R.exe CMD INSTALL --build --library=crisprDesign.buildbin-libdir crisprDesign_1.6.0.tar.gz StartedAt: 2024-10-17 07:36:27 -0400 (Thu, 17 Oct 2024) EndedAt: 2024-10-17 07:38:57 -0400 (Thu, 17 Oct 2024) EllapsedTime: 150.5 seconds RetCode: 0 Status: OK PackageFile: crisprDesign_1.6.0.zip PackageFileSize: 3.553 MiB