Package: crisprDesign Version: 1.6.0 Command: F:\biocbuild\bbs-3.19-bioc\R\bin\R.exe CMD INSTALL crisprDesign StartedAt: 2024-06-26 16:10:23 -0400 (Wed, 26 Jun 2024) EndedAt: 2024-06-26 16:11:49 -0400 (Wed, 26 Jun 2024) EllapsedTime: 85.3 seconds RetCode: 0 Status: OK