Package: crisprDesign Version: 1.6.0 Command: rm -rf crisprDesign.buildbin-libdir && mkdir crisprDesign.buildbin-libdir && F:\biocbuild\bbs-3.19-bioc\R\bin\R.exe CMD INSTALL --build --library=crisprDesign.buildbin-libdir crisprDesign_1.6.0.tar.gz StartedAt: 2024-06-27 08:03:18 -0400 (Thu, 27 Jun 2024) EndedAt: 2024-06-27 08:04:55 -0400 (Thu, 27 Jun 2024) EllapsedTime: 97.3 seconds RetCode: 0 Status: OK PackageFile: crisprDesign_1.6.0.zip PackageFileSize: 3.552 MiB